BEGIN:VCALENDAR
VERSION:2.0
PRODID:-//Geo-Institute Los Angeles Chapter - ECPv6.15.20//NONSGML v1.0//EN
CALSCALE:GREGORIAN
METHOD:PUBLISH
X-ORIGINAL-URL:https://lageoinstitute.org
X-WR-CALDESC:Events for Geo-Institute Los Angeles Chapter
REFRESH-INTERVAL;VALUE=DURATION:PT1H
X-Robots-Tag:noindex
X-PUBLISHED-TTL:PT1H
BEGIN:VTIMEZONE
TZID:America/Los_Angeles
BEGIN:DAYLIGHT
TZOFFSETFROM:-0800
TZOFFSETTO:-0700
TZNAME:PDT
DTSTART:20240310T100000
END:DAYLIGHT
BEGIN:STANDARD
TZOFFSETFROM:-0700
TZOFFSETTO:-0800
TZNAME:PST
DTSTART:20241103T090000
END:STANDARD
BEGIN:DAYLIGHT
TZOFFSETFROM:-0800
TZOFFSETTO:-0700
TZNAME:PDT
DTSTART:20250309T100000
END:DAYLIGHT
BEGIN:STANDARD
TZOFFSETFROM:-0700
TZOFFSETTO:-0800
TZNAME:PST
DTSTART:20251102T090000
END:STANDARD
BEGIN:DAYLIGHT
TZOFFSETFROM:-0800
TZOFFSETTO:-0700
TZNAME:PDT
DTSTART:20260308T100000
END:DAYLIGHT
BEGIN:STANDARD
TZOFFSETFROM:-0700
TZOFFSETTO:-0800
TZNAME:PST
DTSTART:20261101T090000
END:STANDARD
END:VTIMEZONE
BEGIN:VEVENT
DTSTART;TZID=America/Los_Angeles:20251101T090000
DTEND;TZID=America/Los_Angeles:20251101T140000
DTSTAMP:20260423T164937
CREATED:20250909T213352Z
LAST-MODIFIED:20251031T165450Z
UID:1425-1761987600-1762005600@lageoinstitute.org
SUMMARY:GeoExtreme 2025: Palos Verdes Field Trip with Tim Stark
DESCRIPTION:Palos Verdes Peninsula Landslides w/Tim Stark \nTitle: Engineering on the Edge: History\, Hazards\, and Innovation at the Portuguese Bend Landslide \nOverview:\nThis technical field tour invites geotechnical engineers\, geologists\, researchers\, and policy professionals to examine the Portuguese Bend Landslide\, one of the most complex and historically significant landslide systems in North America. Situated on the Palos Verdes Peninsula\, the landslide has been active for over 70 years\, triggered by mid-20th century development activities. This tour highlights both the evolving scientific understanding and the municipal response to living atop a moving landscape. \nHistorical Emphasis: \nThe Portuguese Bend Landslide began accelerating in 1956 following residential grading and road construction that may have altered surface and subsurface hydrology. Since then\, the area has seen continuous movement of up to 5 feet per year\, with significant impacts on homes\, infrastructure\, and public policy. \nLandslide movement was accelerated by heavy rains over the past few years.  The moving portions of the landslide had doubled in area (600+ acres) and locally accelerated movement to 50 foot per year.  The City with the help of its technical consultants have found ways to decelerate this dramatic movement by keeping water from entering the landslide complex while draining up to 1 million gallons per day from under the deep slip planes. \nThe site has served as a living laboratory for decades of research\, legal precedent\, and engineering experimentation. This tour will trace the history of the landslide from its initiation to present-day monitoring and management efforts. \nTour Objectives: \n\nAnalyze the historical development and progression of the landslide over the past seven decades.\nExamine the geological and hydrological conditions underlying the slope failure.\nUnderstand engineering mitigation techniques\, both historical and current.\nEvaluate the policy and planning implications of long-term ground movement.\n\nItinerary Highlights: \n\n\n\nHistorical Timeline & Geologic Context\nA detailed overview of the landslide’s history since the initial failure in the 1950s. Presenters will walk participants through the key phases of movement\, litigation\, and land use response\, framed within the geologic setting of the Altamira Shale and bentonite shear layers.\nOn-Site Field Observations\nGuided visits to deformation hotspots along Palos Verdes Drive South. Participants will observe road realignments\, displaced utilities\, cracked foundations\, and sheared ground surfaces. Discussion will include the legacy of early engineering responses and the physical evidence of long-term displacement.\nMonitoring and Instrumentation Systems\nReview of the monitoring program developed over decades\, including subsurface instrumentation and recent advancements in surveys. Participants will be briefed on historical movement data to understand velocity trends and acceleration events.\nEngineering Interventions & Lessons Learned\nPresentations by consulting engineers on historical and current attempts at slope stabilization\, drainage improvements\, and adaptive infrastructure design. Emphasis will be placed on what has—and has not—worked over time.\nDiscussion & Forward-Looking Perspectives\nOpen discussion on how historical understanding informs future slope stability projects\, urban planning in hazard zones\, and academic research directions.\n\n\n\nDuration: 5-6 hours\, 9am-2/3pm \nLunch: Provided \nIntended Audience: Engineers\, geoscientists\, academic researchers\, policy makers\, and urban planners \nPresenters: \n\n\n\nNeven Matasovic\, Geo-Logic\nTravis Deane\, Shannon & Wilson\nTim Stark\, PhD PE \n\n\n\nSafety & Access: Even though limited to publicly-accessible areas\, terrain tour may include walking over unstable and uneven areas. Attendees should wear appropriate field gear. Tour route may be adjusted due to current landslide (reserve) conditions and/or weather.
URL:https://lageoinstitute.org/event/geoextreme-2025-field-trip/
LOCATION:Hyatt Regency Long Beach\, 200 S Pine Ave\, Long Beach\, CA\, 90802\, United States
ATTACH;FMTTYPE=image/png:https://lageoinstitute.org/wp-content/uploads/2025/09/GeoExtreme-Field-Trip.png
ORGANIZER;CN="ASCE Geo-Institute Los Angeles":MAILTO:asce.lagi@gmail.com
END:VEVENT
END:VCALENDAR