BEGIN:VCALENDAR
VERSION:2.0
PRODID:-//Geo-Institute Los Angeles Chapter - ECPv6.15.20//NONSGML v1.0//EN
CALSCALE:GREGORIAN
METHOD:PUBLISH
X-WR-CALNAME:Geo-Institute Los Angeles Chapter
X-ORIGINAL-URL:https://lageoinstitute.org
X-WR-CALDESC:Events for Geo-Institute Los Angeles Chapter
REFRESH-INTERVAL;VALUE=DURATION:PT1H
X-Robots-Tag:noindex
X-PUBLISHED-TTL:PT1H
BEGIN:VTIMEZONE
TZID:UTC
BEGIN:STANDARD
TZOFFSETFROM:+0000
TZOFFSETTO:+0000
TZNAME:UTC
DTSTART:20190101T000000
END:STANDARD
END:VTIMEZONE
BEGIN:VEVENT
DTSTART;TZID=UTC:20240502T170000
DTEND;TZID=UTC:20240502T170000
DTSTAMP:20260423T165700
CREATED:20240528T060201Z
LAST-MODIFIED:20250110T222745Z
UID:188-1714669200-1714669200@lageoinstitute.org
SUMMARY:Dinner Meeting: "TBM Tunnel Repair Using a Secant “Horseshoe” Compression Shoring System"
DESCRIPTION:Program Schedule\n\n\n\n\n\n\n\nDay One : May 02\n\n\n\n\n05:00PM\nRegistration and Social Hour\n\n\n06:00PM\nDinner\n\n\n06:45PM\nPresentation
URL:https://lageoinstitute.org/event/dinner-meeting-tbm-tunnel-repair-using-a-secant-horseshoe-compression-shoring-system/
LOCATION:Skylinks at Long Beach Golf Course\, 4800 E Wardlow Rd.\, Long Beach\, CA\, 90808\, United States
END:VEVENT
BEGIN:VEVENT
DTSTART;TZID=UTC:20240417T130000
DTEND;TZID=UTC:20240417T200000
DTSTAMP:20260423T165700
CREATED:20240528T060343Z
LAST-MODIFIED:20240528T060343Z
UID:191-1713358800-1713384000@lageoinstitute.org
SUMMARY:45th Spring Seminar & 18th Kenneth L. Lee Lecture & Geo Expo
DESCRIPTION:Program Schedule\n\n\n\n\n\n\n\nDay One : April 17\n\n\n\n\n01:00PM\nRegistration & Geo Expo\n\n\n02:00PM\nPresentation by Jesse Dillon\n\n\n03:00PM\nCoffee Break & Geo Expo\n\n\n03:30PM\nPresentation by Jennifer Lim\n\n\n04:30PM\nSocial Hour & Geo Expo\n\n\n06:00PM\nBanquet & Kenneth L. Lee Lecture by Dr. Jonathan Bray
URL:https://lageoinstitute.org/event/45th-spring-seminar-18th-kenneth-l-lee-lecture-geo-expo/
LOCATION:Queen Mary\, 1126 Queen’s Highway\, Long Beach\, CA\, 90802\, United States
END:VEVENT
BEGIN:VEVENT
DTSTART;TZID=UTC:20240216T170000
DTEND;TZID=UTC:20240216T213000
DTSTAMP:20260423T165700
CREATED:20240528T223930Z
LAST-MODIFIED:20240528T224027Z
UID:204-1708102800-1708119000@lageoinstitute.org
SUMMARY:Dinner Meeting: “Seismic Site Response in Southern California Sedimentary Basins”
DESCRIPTION:Dinner and presentation by Professor Chukwuebuka Nweke. \nProgram Schedule \n\n\n\n\n\n\n\nDay One : February 16 \n\n\n\n\n05:30PM\nRegistration and Social Hour\n\n\n06:30PM\nDinner\n\n\n07:30PM\nPresentation
URL:https://lageoinstitute.org/event/dinner-meeting-seismic-site-response-in-southern-california-sedimentary-basins/
LOCATION:The Grand\, 4101 E Willow St\, Long Beach\, CA\, 90815\, United States
END:VEVENT
BEGIN:VEVENT
DTSTART;TZID=UTC:20240208T173000
DTEND;TZID=UTC:20240208T210000
DTSTAMP:20260423T165700
CREATED:20240528T060714Z
LAST-MODIFIED:20240528T060714Z
UID:194-1707413400-1707426000@lageoinstitute.org
SUMMARY:February 8th ASCE-GI LA Chapter & CalGeo Joint Meeting: Treating Collapsible Soils
DESCRIPTION:Identifying and Treating Collapsible Soils by Dr. Kyle M. Rollins \nProgram Schedule \n\n\n\n\n\n\n\nDay One : February 08 \n\n\n\n\n05:30PM\nRegistration and Social Hour\n\n\n06:00PM\nDinner\n\n\n07:00PM\nPresentation
URL:https://lageoinstitute.org/event/february-8th-asce-gi-la-chapter-calgeo-joint-meeting-treating-collapsible-soils/
LOCATION:The Grand\, 4101 E Willow St\, Long Beach\, CA\, 90815\, United States
END:VEVENT
BEGIN:VEVENT
DTSTART;TZID=UTC:20231214T080000
DTEND;TZID=UTC:20231214T170000
DTSTAMP:20260423T165700
CREATED:20240528T060828Z
LAST-MODIFIED:20240528T060828Z
UID:197-1702540800-1702573200@lageoinstitute.org
SUMMARY:Holiday Dinner Meeting: “ASCE 7-22 Updates on Ground Motion\, Liquefaction\, and Site Response Analysis”
DESCRIPTION:Program Schedule \n\n\n\n\n\n\n\nDay One : December 14 \n\n\n\n\n05:30PM\nRegistration and Social Hour\n\n\n06:30PM\nDinner\n\n\n07:30PM\nPresentation
URL:https://lageoinstitute.org/event/holiday-dinner-meeting-asce-7-22-updates-on-ground-motion-liquefaction-and-site-response-analysis/
LOCATION:The Grand\, 4101 E Willow St\, Long Beach\, CA\, 90815\, United States
END:VEVENT
BEGIN:VEVENT
DTSTART;TZID=UTC:20230920T080000
DTEND;TZID=UTC:20230920T170000
DTSTAMP:20260423T165700
CREATED:20240528T061045Z
LAST-MODIFIED:20240528T061045Z
UID:199-1695196800-1695229200@lageoinstitute.org
SUMMARY:Dinner Meeting: “Some History and Recent Advances in Designing Soil-Nail Walls” by Pirooz Barar\, S.E.
DESCRIPTION:“Some History and Recent Advances in Designing Soil-Nail Walls” by Pirooz Barar\, S.E. \nSome History and Recent Advances in Designing Soil-Nail Walla. \nProgram Schedule \n\n\n\n\n\n\n\nDay One : September 20 \n\n\n\n\n05:30PM\nRegistration and Social Hour\n\n\n06:30PM\nDinner\n\n\n07:30PM\nPresentation
URL:https://lageoinstitute.org/event/dinner-meeting-some-history-and-recent-advances-in-designing-soil-nail-walls-by-pirooz-barar-s-e/
LOCATION:The Grand\, 4101 E Willow St\, Long Beach\, CA\, 90815\, United States
END:VEVENT
BEGIN:VEVENT
DTSTART;TZID=UTC:20230517T130000
DTEND;TZID=UTC:20230517T200000
DTSTAMP:20260423T165700
CREATED:20240528T223758Z
LAST-MODIFIED:20240528T223758Z
UID:201-1684328400-1684353600@lageoinstitute.org
SUMMARY:ASCE Los Angeles Geo-Institute Forty-Fourth Seminar
DESCRIPTION:Program Schedule \n\n\n\n\n\n\n\nDay One : May 17 \n\n\n\n\n01:00PM\nRegistration (Geo Expo)\n\n\n02:00PM\nPresentation by Dr. Jason Kean\n\n\n03:00PM\nCoffee Break (Geo Expo)\n\n\n03:30PM\nPresentation by Prof. Daniel Pradel\n\n\n04:30PM\nSocial hour (Geo Expo)\n\n\n06:00PM\nBanquet Kenneth L. Lee Lecture Prof. Ross Boulanger
URL:https://lageoinstitute.org/event/asce-los-angeles-geo-institute-forty-fourth-seminar/
LOCATION:Queen Mary\, 1126 Queen’s Highway\, Long Beach\, CA\, 90802\, United States
END:VEVENT
BEGIN:VEVENT
DTSTART;TZID=UTC:20221108T053000
DTEND;TZID=UTC:20221108T213000
DTSTAMP:20260423T165700
CREATED:20240528T224248Z
LAST-MODIFIED:20240528T224248Z
UID:208-1667885400-1667943000@lageoinstitute.org
SUMMARY:Dinner Meeting: "Time History Development"
DESCRIPTION:Dinner and Presentation by Andrew Dinaick “Time History Development” \nProgram Schedule \n\n\n\n\n\n\n\nDay One : November 08 \n\n\n\n\n05:30AM\nRegistration and Social Hour\n\n\n06:30AM\nDinner\n\n\n07:30AM\nPresentation
URL:https://lageoinstitute.org/event/dinner-meeting-time-history-development/
LOCATION:The Grand\, 4101 E Willow St\, Long Beach\, CA\, 90815\, United States
END:VEVENT
BEGIN:VEVENT
DTSTART;TZID=UTC:20220309T173000
DTEND;TZID=UTC:20220309T213000
DTSTAMP:20260423T165700
CREATED:20240528T224422Z
LAST-MODIFIED:20240528T224422Z
UID:210-1646847000-1646861400@lageoinstitute.org
SUMMARY:Dinner Meeting: Test Methods and Modelling of BMPs for Storm Water Quality Information
DESCRIPTION:Dinner and Presentation by David Albus \nProgram Schedule \n\n\n\n\n\n\n\nDay One : March 09 \n\n\n\n\n05:30PM\nRegistration and Social Hour\n\n\n06:30PM\nDinner\n\n\n07:30PM\nPresentation
URL:https://lageoinstitute.org/event/dinner-meeting-test-methods-and-modelling-of-bmps-for-storm-water-quality-information/
LOCATION:The Grand\, 4101 E Willow St\, Long Beach\, CA\, 90815\, United States
END:VEVENT
BEGIN:VEVENT
DTSTART;TZID=UTC:20210930T120000
DTEND;TZID=UTC:20210930T130000
DTSTAMP:20260423T165700
CREATED:20240528T224622Z
LAST-MODIFIED:20240528T224622Z
UID:212-1633003200-1633006800@lageoinstitute.org
SUMMARY:Site Specific Ground Motion and Site Response Analysis per AASHTO (2020) and CALTRANS Seismic Design Criteria (2019)
DESCRIPTION:Webinar \n\n\n\n\n\n\n\n\n\n12:00PM\nSite Specific Ground Motion and Site Response Analysis per AASHTO (2020) and CALTRANS Seismic Design Criteria (2019)
URL:https://lageoinstitute.org/event/site-specific-ground-motion-and-site-response-analysis-per-aashto-2020-and-caltrans-seismic-design-criteria-2019/
END:VEVENT
BEGIN:VEVENT
DTSTART;TZID=UTC:20201007T133000
DTEND;TZID=UTC:20201007T200000
DTSTAMP:20260423T165700
CREATED:20240528T224755Z
LAST-MODIFIED:20240528T224755Z
UID:214-1602077400-1602100800@lageoinstitute.org
SUMMARY:Forty-third Seminar & Sixteenth Kenneth L. Lee Lecture
DESCRIPTION:Webinar \nDay One : October 07 \n\n\n\n\n01:00PM\nRegistration (Geo Expo)\n\n\n02:00PM\nPresentation by Dr. Mark Panning\n\n\n03:00PM\nCoffee Break (Geo Expo)\n\n\n03:30PM\nPresentation by Dr. John Harvey\n\n\n04:30PM\nSocial hour (Geo Expo)\n\n\n06:00PM\nKenneth L. Lee Lecture Prof. Harry G. Poulos
URL:https://lageoinstitute.org/event/forty-third-seminar-sixteenth-kenneth-l-lee-lecture/
END:VEVENT
BEGIN:VEVENT
DTSTART;TZID=UTC:20200916T110000
DTEND;TZID=UTC:20200916T130000
DTSTAMP:20260423T165700
CREATED:20240528T224931Z
LAST-MODIFIED:20240528T224931Z
UID:216-1600254000-1600261200@lageoinstitute.org
SUMMARY:Using Instrumentation to Help Manage Risks to Transportation Infrastructure
DESCRIPTION:Webinar by Dr. Allen Marr \nProgram Schedule \n\n\n\n\n\n\n\nDay One : September 16 \n\n\n\n\n11:00AM\nIncludes annual meeting
URL:https://lageoinstitute.org/event/using-instrumentation-to-help-manage-risks-to-transportation-infrastructure/
END:VEVENT
BEGIN:VEVENT
DTSTART;TZID=UTC:20200710T110000
DTEND;TZID=UTC:20200710T130000
DTSTAMP:20260423T165700
CREATED:20240528T225159Z
LAST-MODIFIED:20240528T225159Z
UID:218-1594378800-1594386000@lageoinstitute.org
SUMMARY:Seismic Provisions per ASCE 7-16
DESCRIPTION:Webinar by Martin B. Hudson\, Lisheng Shao and Andrew Dinsick. \nProgram Schedule \n\n\n\n\n\nDay One : July 10 \n\n\n\n\n11:00AM\n“Performance of Shallow Foundations on Liquefiable Soils and Mitigation Strategies” by Dr. Lisheng Shao\n\n\n\n\n\n\nDay Two : July 17 \n\n\n\n\n11:00AM\n“Near Fault Considerations” by Andrew Dinsick\, P.E.\n\n\n\n\n\n\n\nDay Three : July 24 \n\n\n\n\n11:00AM\n“Time History Selection and Scaling/Matching” by Dr. Martin Hudson
URL:https://lageoinstitute.org/event/seismic-provisions-per-asce-7-16/
END:VEVENT
END:VCALENDAR