BEGIN:VCALENDAR
VERSION:2.0
PRODID:-//Geo-Institute Los Angeles Chapter - ECPv6.15.18//NONSGML v1.0//EN
CALSCALE:GREGORIAN
METHOD:PUBLISH
X-ORIGINAL-URL:https://lageoinstitute.org
X-WR-CALDESC:Events for Geo-Institute Los Angeles Chapter
REFRESH-INTERVAL;VALUE=DURATION:PT1H
X-Robots-Tag:noindex
X-PUBLISHED-TTL:PT1H
BEGIN:VTIMEZONE
TZID:America/Los_Angeles
BEGIN:DAYLIGHT
TZOFFSETFROM:-0800
TZOFFSETTO:-0700
TZNAME:PDT
DTSTART:20240310T100000
END:DAYLIGHT
BEGIN:STANDARD
TZOFFSETFROM:-0700
TZOFFSETTO:-0800
TZNAME:PST
DTSTART:20241103T090000
END:STANDARD
BEGIN:DAYLIGHT
TZOFFSETFROM:-0800
TZOFFSETTO:-0700
TZNAME:PDT
DTSTART:20250309T100000
END:DAYLIGHT
BEGIN:STANDARD
TZOFFSETFROM:-0700
TZOFFSETTO:-0800
TZNAME:PST
DTSTART:20251102T090000
END:STANDARD
BEGIN:DAYLIGHT
TZOFFSETFROM:-0800
TZOFFSETTO:-0700
TZNAME:PDT
DTSTART:20260308T100000
END:DAYLIGHT
BEGIN:STANDARD
TZOFFSETFROM:-0700
TZOFFSETTO:-0800
TZNAME:PST
DTSTART:20261101T090000
END:STANDARD
END:VTIMEZONE
BEGIN:VEVENT
DTSTART;TZID=America/Los_Angeles:20250610T113000
DTEND;TZID=America/Los_Angeles:20250610T133000
DTSTAMP:20260423T124522
CREATED:20250317T181959Z
LAST-MODIFIED:20250731T201954Z
UID:1045-1749555000-1749562200@lageoinstitute.org
SUMMARY:GeoWomens Luncheon
DESCRIPTION:Everyone is welcome at the 2nd Annual GeoWomens Luncheon! \nConnect\, learn\, and be inspired at this year’s GeoWomens Luncheon\, where we bring together women and allies in the geo-industries for meaningful conversations and shared experiences. This year’s event will feature a panel of invited speakers who will share their insights\, challenges\, and advice\, followed by an open discussion where attendees can exchange perspectives and strategies for fostering a more inclusive and supportive industry. \nA message to all the guys: We need you! All genders are welcome—whether you’re looking to share your own experiences or learn how to better support and advocate for women in our industry. Please share this event with your network and co-workers. Most women in our industry have been mentored\, taught or work alongside men – please come and learn how to better retain the women you work with and help them succeed! \nSponsorship: \nSponsorship includes (2) tickets to the luncheon\, your logo on our networking bingo card and recognition at the event. Help support the Geo-Women! \nThank you to ConeTec\, Mid Pacific Engineering\, Geobear\, Middle Earth and 24-7 Drilling for supporting our cause! \n  \nSchedule: \n11:15am: Registration & networking BINGO \n12:00pm: Lunch \n12:30-1:30pm: Panel discussion \nOur panelists this year are: \n\nAnne Lemnitzer\, a Professor in the Civil & Environmental Engineering Department at UCI\nCatherine Ellis\, Vice President Geotechnical Engineer\, Shannon & Wilson\nMeggy Gidula\, Mining Market Sector Lead\, Brown and Caldwell\n\nThank you for the support from our cooperating organizations\, ASCE GeoInstitue Los Angeles Chapter The California Geotechnical Engineers Association (CalGeo) ASCE Los Angeles Section and the Orange County Branch of ASCE.
URL:https://lageoinstitute.org/event/geowomens-luncheon/
LOCATION:Tustin Ranch Golf Club\, 12442 Tustin Ranch Rd\, Tustin\, CA\, 92782\, United States
CATEGORIES:GeoWomens Event
ATTACH;FMTTYPE=image/png:https://lageoinstitute.org/wp-content/uploads/2025/03/GeoWomens-Luncheon-2025.png
ORGANIZER;CN="ASCE Geo-Institute Los Angeles":MAILTO:asce.lagi@gmail.com
END:VEVENT
END:VCALENDAR