BEGIN:VCALENDAR
VERSION:2.0
PRODID:-//Geo-Institute Los Angeles Chapter - ECPv6.15.18//NONSGML v1.0//EN
CALSCALE:GREGORIAN
METHOD:PUBLISH
X-WR-CALNAME:Geo-Institute Los Angeles Chapter
X-ORIGINAL-URL:https://lageoinstitute.org
X-WR-CALDESC:Events for Geo-Institute Los Angeles Chapter
REFRESH-INTERVAL;VALUE=DURATION:PT1H
X-Robots-Tag:noindex
X-PUBLISHED-TTL:PT1H
BEGIN:VTIMEZONE
TZID:America/Los_Angeles
BEGIN:DAYLIGHT
TZOFFSETFROM:-0800
TZOFFSETTO:-0700
TZNAME:PDT
DTSTART:20250309T100000
END:DAYLIGHT
BEGIN:STANDARD
TZOFFSETFROM:-0700
TZOFFSETTO:-0800
TZNAME:PST
DTSTART:20251102T090000
END:STANDARD
BEGIN:DAYLIGHT
TZOFFSETFROM:-0800
TZOFFSETTO:-0700
TZNAME:PDT
DTSTART:20260308T100000
END:DAYLIGHT
BEGIN:STANDARD
TZOFFSETFROM:-0700
TZOFFSETTO:-0800
TZNAME:PST
DTSTART:20261101T090000
END:STANDARD
BEGIN:DAYLIGHT
TZOFFSETFROM:-0800
TZOFFSETTO:-0700
TZNAME:PDT
DTSTART:20270314T100000
END:DAYLIGHT
BEGIN:STANDARD
TZOFFSETFROM:-0700
TZOFFSETTO:-0800
TZNAME:PST
DTSTART:20271107T090000
END:STANDARD
END:VTIMEZONE
BEGIN:VEVENT
DTSTART;TZID=America/Los_Angeles:20260205T170000
DTEND;TZID=America/Los_Angeles:20260205T200000
DTSTAMP:20260423T123354
CREATED:20251205T182628Z
LAST-MODIFIED:20260204T173511Z
UID:1618-1770310800-1770321600@lageoinstitute.org
SUMMARY:ASCE-GI Cross Country Lecture w/Dr. Carlos Santamarina
DESCRIPTION:Join us on February 5\, 2026 at University of California\, Irvine for dinner\, networking and a presentation on: \n“Geotechnical Engineering in the Information Age: From Properties to Analysis & Design” \nWe are entering a transformative era in geotechnical engineering. For more than a century\, our field has advanced through careful observation\, physical insight\, and methodical testing. Today\, it faces a new landscape: pervasive sensing\, advanced imaging and visualization\, autonomous data collection\, intelligent algorithms\, vast computational power\, and instantaneous information sharing. These unprecedented capabilities are catalysts for reimagining how we explore the subsurface\, characterize geomaterials\, and design in an increasingly complex world. As these rapid developments reshape our field\, we must ensure that innovation strengthens\, rather than erodes\, the physical intuition that underpins our discipline\, which can be threatened by overreliance on data-driven methods. The coming era invites us to rethink long-held assumptions and embrace a more integrated and anticipatory form of geotechnical engineering that is more adaptive and ultimately more equitable. The opportunity before us is clear: to elevate the quality and global consistency of geotechnical engineering everywhere and to set the stage for a new century of informed\, innovative practice capable of addressing emerging challenges. \nCarlos Santamarina is Professor and Clough Chair at Georgia Tech. He earned his undergraduate degree from Universidad Nacional de Córdoba and completed graduate studies at the University of Maryland and Purdue University. He has held faculty positions at NYU-Poly\, the University of Waterloo (Canada)\, KAUST (Saudi Arabia)\, and Georgia Tech. Santamarina’s research integrates experimental and numerical approaches to study the behavior of geomaterials\, including sediments\, fractured rocks\, and complex fluids. A frequent keynote speaker\, he has delivered the Terzaghi\, Casagrande\, and Bishop Lectures. He is a member of the Argentine National Academies and has received numerous honors\, including ASTM’s Hogentogler Award\, the Korean Geotechnical Society Award\, and Saudi Arabia’s Tarek Al-Qasabi Award. \nProgram: \n5:15-6:15pm: Dinner with open bar sponsored by Keller – enter the ISEB through either front or back entrance\, registration is in lobby. \n6:15pm: Opening remarks \n6:30-7:30pm: Presentation \n7:30pm: Q&A \n \nThank you to our Sponsors: \n \n \nLocation: \nISEB 1010 (Interdisciplinary Science and Engineering Building) (https://maps.app.goo.gl/U3bfS15CDGmDGUf68) \nParking: \nPark by Plate is available at the adjacent parking lots 12 or 16 in General (Non AR) parking spots. This car park is $4/hr. Access is through E Peltason Dr. and S.Circle Drive. https://apps.parking.uci.edu/parkbyplate/s/purchase.cfm \nSponsored Parking: \nIf you don’t mind walking (~5 minutes)\, Sponsored Parking is available in the Anteater parking structure (https://map.uci.edu/?id=463#!m/367226?share) with access through East Peltason  Dr. \nHow to obtain a sponsored permit for this parking structure: \nObtain your permit at any open kiosk: Kiosk Hours – Kiosk Hours | Transportation and Distribution Services (please note that the kiosk at the Anteater Parking structure closes shortly after 5pm)\, i.e.\, if you arrive after 5\, this permit would need to be picked up at another kiosk on campus. When arriving\, please tell the attendant that you are with the reference Permit# 185868\, ASCE-GI Cross Country Lecture\, Prof. Anne Lemnitzer  \nThen proceed with the parking ticket to the parking structure and leave your car there and follow the walking directions in the map to the venue.
URL:https://lageoinstitute.org/event/asce-gi-cross-country-lecture-w-dr-carlos-santamarina/
LOCATION:University of California\, Irvine\, 419 Physical Sciences Quad\, Irvine\, CA\, 92697\, United States
CATEGORIES:Dinner meeting
ATTACH;FMTTYPE=image/png:https://lageoinstitute.org/wp-content/uploads/2025/12/ASCE-GI-Cross-Country-Lecture-Feb-2026-1.png
ORGANIZER;CN="ASCE Geo-Institute Los Angeles":MAILTO:asce.lagi@gmail.com
END:VEVENT
END:VCALENDAR